BEGIN:VCALENDAR
VERSION:2.0
PRODID:-//jEvents 2.0 for Joomla//EN
CALSCALE:GREGORIAN
METHOD:PUBLISH
BEGIN:VEVENT
UID:1ee2f531ed4f5eea350961d6390395d9
CATEGORIES:RSVW
CREATED:20180126T092756
SUMMARY:Jahreshauptversammlung 2018
DESCRIPTION:
DTSTAMP:20260423T060357
DTSTART:20180317T180000
SEQUENCE:0
TRANSP:OPAQUE
END:VEVENT
END:VCALENDAR