BEGIN:VCALENDAR
VERSION:2.0
PRODID:-//jEvents 2.0 for Joomla//EN
CALSCALE:GREGORIAN
METHOD:PUBLISH
BEGIN:VEVENT
UID:02090103a8e49c16b7a38a216d0eebd7
CATEGORIES:RSVW
CREATED:20230307T100438
SUMMARY:Jahreshauptversammlung
DESCRIPTION:
DTSTAMP:20260425T182002
DTSTART:20230421T170000
SEQUENCE:0
TRANSP:OPAQUE
END:VEVENT
END:VCALENDAR