BEGIN:VCALENDAR
VERSION:2.0
PRODID:-//jEvents 2.0 for Joomla//EN
CALSCALE:GREGORIAN
METHOD:PUBLISH
BEGIN:VEVENT
UID:2a343b1c1ea006451fd032fb16bc205f
CATEGORIES:Jugend
CREATED:20230307T100555
SUMMARY:Jugendversammlung
DESCRIPTION:
DTSTAMP:20260425T225818
DTSTART:20230421T150000
SEQUENCE:0
TRANSP:OPAQUE
END:VEVENT
END:VCALENDAR