BEGIN:VCALENDAR
VERSION:2.0
PRODID:-//jEvents 2.0 for Joomla//EN
CALSCALE:GREGORIAN
METHOD:PUBLISH
BEGIN:VEVENT
UID:a64a4531e3890f196b44ffd1fc87e7a5
CATEGORIES:RSVW
CREATED:19700101T010000
SUMMARY:420er/Laser Training
LOCATION:Nordsteg
DESCRIPTION:
DTSTAMP:20260422T232418
DTSTART:20160506T143000
SEQUENCE:0
RRULE:FREQ=WEEKLY;COUNT=11;INTERVAL=11;BYDAY=FR
TRANSP:OPAQUE
END:VEVENT
END:VCALENDAR