BEGIN:VCALENDAR
VERSION:2.0
PRODID:-//jEvents 2.0 for Joomla//EN
CALSCALE:GREGORIAN
METHOD:PUBLISH
BEGIN:VEVENT
UID:450ee748ec73fa3d16d01ed3b7f8d7d3
CATEGORIES:RSVW
CREATED:19700101T010000
SUMMARY:Freies Segeln
LOCATION:Nordsteg
DESCRIPTION:
DTSTAMP:20260422T111513
DTSTART:20160501T130000
SEQUENCE:0
RRULE:FREQ=WEEKLY;COUNT=11;INTERVAL=1;BYDAY=SU
TRANSP:OPAQUE
END:VEVENT
END:VCALENDAR