BEGIN:VCALENDAR
VERSION:2.0
PRODID:-//jEvents 2.0 for Joomla//EN
CALSCALE:GREGORIAN
METHOD:PUBLISH
BEGIN:VEVENT
UID:9aa8c37a8cd83bf130593164e02a10b2
CATEGORIES:Wulfsfelder Steggem.
CREATED:20160822T120046
SUMMARY:Stegabbau Wulfsfelder Steg
LOCATION:Wulfsfelder Steg
DESCRIPTION:Abbau der Steganlage am Wulfsfelder Steg.
DTSTAMP:20260422T175545
DTSTART:20161022T080000
DTEND:20161022T110000
SEQUENCE:0
TRANSP:OPAQUE
END:VEVENT
END:VCALENDAR