BEGIN:VCALENDAR
VERSION:2.0
PRODID:-//jEvents 2.0 for Joomla//EN
CALSCALE:GREGORIAN
METHOD:PUBLISH
BEGIN:VEVENT
UID:a81d3cc8b347350abefd4232f0022c44
CATEGORIES:RSVW
CREATED:20170220T124249
SUMMARY:Jahreshauptversammlung
LOCATION:Gemeindezentrum Felde
DESCRIPTION:
DTSTAMP:20260422T231810
DTSTART:20170311T180000
SEQUENCE:0
TRANSP:OPAQUE
END:VEVENT
END:VCALENDAR