BEGIN:VCALENDAR
VERSION:2.0
PRODID:-//jEvents 2.0 for Joomla//EN
CALSCALE:GREGORIAN
METHOD:PUBLISH
BEGIN:VEVENT
UID:f318af2901f64398643d7e5f916eb226
CATEGORIES:Jugend
CREATED:20170220T124507
SUMMARY:Jugendversammlung
LOCATION:Gemeindezentrum Felde
DESCRIPTION:
DTSTAMP:20260422T231214
DTSTART:20170304T140000
SEQUENCE:0
TRANSP:OPAQUE
END:VEVENT
END:VCALENDAR