BEGIN:VCALENDAR
VERSION:2.0
PRODID:-//jEvents 2.0 for Joomla//EN
CALSCALE:GREGORIAN
METHOD:PUBLISH
BEGIN:VEVENT
UID:6c08925d51b55e189fafc23822b97642
CATEGORIES:Wulfsfelder Steggem.
CREATED:20170911T212408
SUMMARY:Abbau Wulfsfelder Steg
LOCATION:Steganlage der Steggemeinschaft
DESCRIPTION:Abbau der Steganlage am Wulfsfelder Steg. Bei Fragen wendet Euch bitte an u
 nseren Vorstand.\n
X-ALT-DESC;FMTTYPE=text/html:<p><span style="font-family: 'Helvetica Neue', Helvetica, Arial, sans-serif
 ; font-size: 11px;">Abbau der Steganlage am Wulfsfelder Steg. Bei Fragen we
 ndet Euch bitte an unseren Vorstand.</span></p>
DTSTAMP:20260423T023053
DTSTART:20171021T080000
SEQUENCE:0
TRANSP:OPAQUE
END:VEVENT
END:VCALENDAR