BEGIN:VCALENDAR
VERSION:2.0
PRODID:-//jEvents 2.0 for Joomla//EN
CALSCALE:GREGORIAN
METHOD:PUBLISH
BEGIN:VEVENT
UID:db09da4e8b621052d02bdc4c2e42d393
CATEGORIES:Wulfsfelder Steggem.
CREATED:20170924T133429
SUMMARY:Boote rausholen
DESCRIPTION:Um einen reibungslosen Stegabbau am kommenden Wochenende zu gewährleisten b
 ittet der Vorstand der Steggemeinschaft Wulfsfelde e.V. darum, alle Boote v
 or dem Abbau von der Steganlage zu nehmen. Mit diesem Termin wird eiine Gem
 einschaftsaktion an der Badestelle Wulfsfelde mit Trecker und Motorboot ang
 eboten.\n
X-ALT-DESC;FMTTYPE=text/html:<p>Um einen reibungslosen Stegabbau am kommenden Wochenende zu gewährleiste
 n bittet der Vorstand der Steggemeinschaft Wulfsfelde e.V. darum, alle Boot
 e vor dem Abbau von der Steganlage zu nehmen. Mit diesem Termin wird eiine 
 Gemeinschaftsaktion an der Badestelle Wulfsfelde mit Trecker und Motorboot 
 angeboten.</p>
DTSTAMP:20260423T023053
DTSTART:20171014T080000
SEQUENCE:0
TRANSP:OPAQUE
END:VEVENT
END:VCALENDAR