BEGIN:VCALENDAR
VERSION:2.0
PRODID:-//jEvents 2.0 for Joomla//EN
CALSCALE:GREGORIAN
METHOD:PUBLISH
BEGIN:VEVENT
UID:a64a4531e3890f196b44ffd1fc87e7a5
CATEGORIES:RSVW
CREATED:20160226T134058
SUMMARY:420er/Laser Training
LOCATION:Nordsteg
DESCRIPTION:
DTSTAMP:20260423T023115
DTSTART:20180330T143000
SEQUENCE:0
TRANSP:OPAQUE
END:VEVENT
END:VCALENDAR