BEGIN:VCALENDAR
VERSION:2.0
PRODID:-//jEvents 2.0 for Joomla//EN
CALSCALE:GREGORIAN
METHOD:PUBLISH
BEGIN:VEVENT
UID:8fa347bf9158358ef820c5c746042b5e
CATEGORIES:RSVW
CREATED:20160226T133959
SUMMARY:420er/Laser Training
LOCATION:Nordsteg
DESCRIPTION:
DTSTAMP:20260422T091859
DTSTART:20160603T143000
SEQUENCE:0
TRANSP:OPAQUE
END:VEVENT
END:VCALENDAR