BEGIN:VCALENDAR
VERSION:2.0
PRODID:-//jEvents 2.0 for Joomla//EN
CALSCALE:GREGORIAN
METHOD:PUBLISH
BEGIN:VEVENT
UID:450ee748ec73fa3d16d01ed3b7f8d7d3
CATEGORIES:RSVW
CREATED:20160304T093230
SUMMARY:Freies Segeln
LOCATION:Nordsteg
DESCRIPTION:
DTSTAMP:20260422T114058
DTSTART:20160508T130000
SEQUENCE:0
TRANSP:OPAQUE
END:VEVENT
END:VCALENDAR